BEGIN:VCALENDAR
VERSION:2.0
PRODID:-//4-C - ECPv6.15.17.1//NONSGML v1.0//EN
CALSCALE:GREGORIAN
METHOD:PUBLISH
X-WR-CALNAME:4-C
X-ORIGINAL-URL:https://www.four-c.org
X-WR-CALDESC:Events for 4-C
REFRESH-INTERVAL;VALUE=DURATION:PT1H
X-Robots-Tag:noindex
X-PUBLISHED-TTL:PT1H
BEGIN:VTIMEZONE
TZID:America/Chicago
BEGIN:DAYLIGHT
TZOFFSETFROM:-0600
TZOFFSETTO:-0500
TZNAME:CDT
DTSTART:20230312T080000
END:DAYLIGHT
BEGIN:STANDARD
TZOFFSETFROM:-0500
TZOFFSETTO:-0600
TZNAME:CST
DTSTART:20231105T070000
END:STANDARD
BEGIN:DAYLIGHT
TZOFFSETFROM:-0600
TZOFFSETTO:-0500
TZNAME:CDT
DTSTART:20240310T080000
END:DAYLIGHT
BEGIN:STANDARD
TZOFFSETFROM:-0500
TZOFFSETTO:-0600
TZNAME:CST
DTSTART:20241103T070000
END:STANDARD
BEGIN:DAYLIGHT
TZOFFSETFROM:-0600
TZOFFSETTO:-0500
TZNAME:CDT
DTSTART:20250309T080000
END:DAYLIGHT
BEGIN:STANDARD
TZOFFSETFROM:-0500
TZOFFSETTO:-0600
TZNAME:CST
DTSTART:20251102T070000
END:STANDARD
END:VTIMEZONE
BEGIN:VEVENT
DTSTART;TZID=America/Chicago:20241109T083000
DTEND;TZID=America/Chicago:20241109T123000
DTSTAMP:20260420T061619
CREATED:20241001T181957Z
LAST-MODIFIED:20241001T182018Z
UID:10000503-1731141000-1731155400@www.four-c.org
SUMMARY:American Heart Association Heartsaver Pediatric Total (expires in 2 years)
DESCRIPTION:American Heart Association Heartsaver Pediatric CPR/First Aid/AED course teaches child care providers critical skills and knowledge needed to respond to and manage illnesses and injuries in a child or infant in the first minutes until emergency services arrives. \nTrainer: Annie Johnson\, Assistant Director\, The Growing Place \nAudience: All Providers \n4 Training Hours; Level of Learning: Introductory \nFree Training
URL:https://www.four-c.org/event/american-heart-association-heartsaver-pediatric-total-expires-in-2-years-20/
LOCATION:McHenry County Mental Health Board\, Crystal Lake\, IL
CATEGORIES:CCAP Orientation Requirement,CCAP Training Requirements,CPR and First Aid,McHenry County
ATTACH;FMTTYPE=image/jpeg:https://www.four-c.org/wp-content/uploads/2018/02/Fotolia_81538858_Subscription_XXL-scaled.jpg
END:VEVENT
BEGIN:VEVENT
DTSTART;TZID=America/Chicago:20241113T180000
DTEND;TZID=America/Chicago:20241113T210000
DTSTAMP:20260420T061619
CREATED:20241001T182146Z
LAST-MODIFIED:20241010T152408Z
UID:10000504-1731520800-1731531600@www.four-c.org
SUMMARY:American Heart Association Heartsaver Pediatric Total (expires in 2 years)
DESCRIPTION:American Heart Association Heartsaver Pediatric CPR/First Aid/AED course teaches child care providers critical skills and knowledge needed to respond to and manage illnesses and injuries in a child or infant in the first minutes until emergency services arrives. \nTrainer: Maria Lombardo\, Director\, Kishwaukee College Early Learning Center \nAudience: All Providers \n3 Training Hours; Level of Learning: Introductory \nFree Training
URL:https://www.four-c.org/event/american-heart-association-heartsaver-pediatric-total-expires-in-2-years-21/
LOCATION:Northern Illinois University Child Development and Family Center\, DeKalb\, IL
CATEGORIES:CCAP Orientation Requirement,CCAP Training Requirements,CPR and First Aid,DeKalb County
ATTACH;FMTTYPE=image/jpeg:https://www.four-c.org/wp-content/uploads/2018/02/Fotolia_81538858_Subscription_XXL-scaled.jpg
END:VEVENT
BEGIN:VEVENT
DTSTART;TZID=America/Chicago:20241116T083000
DTEND;TZID=America/Chicago:20241116T123000
DTSTAMP:20260420T061619
CREATED:20241001T182307Z
LAST-MODIFIED:20241001T182307Z
UID:10000505-1731745800-1731760200@www.four-c.org
SUMMARY:American Heart Association Heartsaver Pediatric Total (expires in 2 years)
DESCRIPTION:American Heart Association Heartsaver Pediatric CPR/First Aid/AED course teaches child care providers critical skills and knowledge needed to respond to and manage illnesses and injuries in a child or infant in the first minutes until emergency services arrives. \nTrainer: Maria Lombardo\, Director\, Kishwaukee College Early Learning Center \nAudience: All Providers \n4 Training Hours; Level of Learning: Introductory \nFree Training
URL:https://www.four-c.org/event/american-heart-association-heartsaver-pediatric-total-expires-in-2-years-22/
LOCATION:Loveland Community House\, Dixon\, IL
CATEGORIES:CCAP Orientation Requirement,CCAP Training Requirements,CPR and First Aid,Lee County
ATTACH;FMTTYPE=image/jpeg:https://www.four-c.org/wp-content/uploads/2018/02/Fotolia_81538858_Subscription_XXL-scaled.jpg
END:VEVENT
BEGIN:VEVENT
DTSTART;TZID=America/Chicago:20241123T083000
DTEND;TZID=America/Chicago:20241123T123000
DTSTAMP:20260420T061619
CREATED:20241010T142511Z
LAST-MODIFIED:20241010T142517Z
UID:10000509-1732350600-1732365000@www.four-c.org
SUMMARY:American Heart Association Heartsaver Pediatric Total (expires in 2 years)
DESCRIPTION:American Heart Association Heartsaver Pediatric CPR/First Aid/AED course teaches child care providers critical skills and knowledge needed to respond to and manage illnesses and injuries in a child or infant in the first minutes until emergency services arrives. \nTrainer: Maria Lombardo\, Director\, Kishwaukee College Early Learning Center \nAudience: All Providers \n4 Training Hours; Level of Learning: Introductory \nFree Training
URL:https://www.four-c.org/event/american-heart-association-heartsaver-pediatric-total-expires-in-2-years-23/
LOCATION:4-C Office\, DeKalb location\, 444 E Hillcrest Dr\, DeKalb\, Illinois\, 60115
CATEGORIES:CCAP Orientation Requirement,CCAP Training Requirements,CPR and First Aid,DeKalb County
ATTACH;FMTTYPE=image/jpeg:https://www.four-c.org/wp-content/uploads/2018/02/Fotolia_81538858_Subscription_XXL-scaled.jpg
END:VEVENT
END:VCALENDAR