BEGIN:VCALENDAR
VERSION:2.0
PRODID:-//4-C - ECPv6.15.17.1//NONSGML v1.0//EN
CALSCALE:GREGORIAN
METHOD:PUBLISH
X-WR-CALNAME:4-C
X-ORIGINAL-URL:https://www.four-c.org
X-WR-CALDESC:Events for 4-C
REFRESH-INTERVAL;VALUE=DURATION:PT1H
X-Robots-Tag:noindex
X-PUBLISHED-TTL:PT1H
BEGIN:VTIMEZONE
TZID:America/Chicago
BEGIN:DAYLIGHT
TZOFFSETFROM:-0600
TZOFFSETTO:-0500
TZNAME:CDT
DTSTART:20240310T080000
END:DAYLIGHT
BEGIN:STANDARD
TZOFFSETFROM:-0500
TZOFFSETTO:-0600
TZNAME:CST
DTSTART:20241103T070000
END:STANDARD
BEGIN:DAYLIGHT
TZOFFSETFROM:-0600
TZOFFSETTO:-0500
TZNAME:CDT
DTSTART:20250309T080000
END:DAYLIGHT
BEGIN:STANDARD
TZOFFSETFROM:-0500
TZOFFSETTO:-0600
TZNAME:CST
DTSTART:20251102T070000
END:STANDARD
BEGIN:DAYLIGHT
TZOFFSETFROM:-0600
TZOFFSETTO:-0500
TZNAME:CDT
DTSTART:20260308T080000
END:DAYLIGHT
BEGIN:STANDARD
TZOFFSETFROM:-0500
TZOFFSETTO:-0600
TZNAME:CST
DTSTART:20261101T070000
END:STANDARD
END:VTIMEZONE
BEGIN:VEVENT
DTSTART;TZID=America/Chicago:20250607T083000
DTEND;TZID=America/Chicago:20250607T123000
DTSTAMP:20260419T172857
CREATED:20250501T192150Z
LAST-MODIFIED:20250501T192150Z
UID:10000566-1749285000-1749299400@www.four-c.org
SUMMARY:American Heart Association Heartsaver Pediatric Total (expires in 2 years)
DESCRIPTION:American Heart Association Heartsaver Pediatric CPR/First Aid/AED course teaches child care providers critical skills and knowledge needed to respond to and manage illnesses and injuries in a child or infant in the first minutes until emergency services arrives. \nTrainer: Maria Lombardo\, Director\, Kishwaukee College Early Learning Center \nAudience: All Providers \n4 Training Hours; Level of Learning: Introductory \nFree Training
URL:https://www.four-c.org/event/american-heart-association-heartsaver-pediatric-total-expires-in-2-years-35/
LOCATION:Loveland Community House\, Dixon\, IL
CATEGORIES:CCAP Orientation Requirement,CCAP Training Requirements,CPR and First Aid,Lee County
ATTACH;FMTTYPE=image/jpeg:https://www.four-c.org/wp-content/uploads/2018/02/Fotolia_134763473_Subscription_XXL-scaled.jpg
END:VEVENT
BEGIN:VEVENT
DTSTART;TZID=America/Chicago:20250614T083000
DTEND;TZID=America/Chicago:20250614T123000
DTSTAMP:20260419T172857
CREATED:20250501T192248Z
LAST-MODIFIED:20250501T192248Z
UID:10000567-1749889800-1749904200@www.four-c.org
SUMMARY:American Heart Association Heartsaver Pediatric Total (expires in 2 years)
DESCRIPTION:American Heart Association Heartsaver Pediatric CPR/First Aid/AED course teaches child care providers critical skills and knowledge needed to respond to and manage illnesses and injuries in a child or infant in the first minutes until emergency services arrives. \nTrainer: Annie Johnson\, Assistant Director\, The Growing Place \nAudience: All Providers \n4 Training Hours; Level of Learning: Introductory \nFree Training
URL:https://www.four-c.org/event/american-heart-association-heartsaver-pediatric-total-expires-in-2-years-36/
LOCATION:McHenry County Mental Health Board\, Crystal Lake\, IL
CATEGORIES:CCAP Orientation Requirement,CCAP Training Requirements,CPR and First Aid,McHenry County
ATTACH;FMTTYPE=image/jpeg:https://www.four-c.org/wp-content/uploads/2018/02/Fotolia_134763473_Subscription_XXL-scaled.jpg
END:VEVENT
BEGIN:VEVENT
DTSTART;TZID=America/Chicago:20250617T180000
DTEND;TZID=America/Chicago:20250617T210000
DTSTAMP:20260419T172857
CREATED:20250501T193012Z
LAST-MODIFIED:20250501T193019Z
UID:10000568-1750183200-1750194000@www.four-c.org
SUMMARY:American Heart Association Heartsaver Pediatric Total (expires in 2 years)
DESCRIPTION:American Heart Association Heartsaver Pediatric CPR/First Aid/AED course teaches child care providers critical skills and knowledge needed to respond to and manage illnesses and injuries in a child or infant in the first minutes until emergency services arrives. \nTrainer: Amy Lofthouse\, Associate Director\, Northern Illinois University Child Development & Family Center \nAudience: All Providers \n4 Training Hours; Level of Learning: Introductory \nFree Training
URL:https://www.four-c.org/event/american-heart-association-heartsaver-pediatric-total-expires-in-2-years-37/
LOCATION:Northern Illinois University Child Development and Family Center\, DeKalb\, IL
CATEGORIES:CCAP Orientation Requirement,CCAP Training Requirements,CPR and First Aid,DeKalb County
ATTACH;FMTTYPE=image/jpeg:https://www.four-c.org/wp-content/uploads/2018/02/Fotolia_134763473_Subscription_XXL-scaled.jpg
END:VEVENT
END:VCALENDAR