BEGIN:VCALENDAR
VERSION:2.0
PRODID:-//4-C - ECPv6.15.17.1//NONSGML v1.0//EN
CALSCALE:GREGORIAN
METHOD:PUBLISH
X-ORIGINAL-URL:https://www.four-c.org
X-WR-CALDESC:Events for 4-C
REFRESH-INTERVAL;VALUE=DURATION:PT1H
X-Robots-Tag:noindex
X-PUBLISHED-TTL:PT1H
BEGIN:VTIMEZONE
TZID:America/Chicago
BEGIN:DAYLIGHT
TZOFFSETFROM:-0600
TZOFFSETTO:-0500
TZNAME:CDT
DTSTART:20230312T080000
END:DAYLIGHT
BEGIN:STANDARD
TZOFFSETFROM:-0500
TZOFFSETTO:-0600
TZNAME:CST
DTSTART:20231105T070000
END:STANDARD
BEGIN:DAYLIGHT
TZOFFSETFROM:-0600
TZOFFSETTO:-0500
TZNAME:CDT
DTSTART:20240310T080000
END:DAYLIGHT
BEGIN:STANDARD
TZOFFSETFROM:-0500
TZOFFSETTO:-0600
TZNAME:CST
DTSTART:20241103T070000
END:STANDARD
BEGIN:DAYLIGHT
TZOFFSETFROM:-0600
TZOFFSETTO:-0500
TZNAME:CDT
DTSTART:20250309T080000
END:DAYLIGHT
BEGIN:STANDARD
TZOFFSETFROM:-0500
TZOFFSETTO:-0600
TZNAME:CST
DTSTART:20251102T070000
END:STANDARD
END:VTIMEZONE
BEGIN:VEVENT
DTSTART;TZID=America/Chicago:20240626T180000
DTEND;TZID=America/Chicago:20240626T200000
DTSTAMP:20260420T201808
CREATED:20240506T141828Z
LAST-MODIFIED:20240506T141828Z
UID:10000309-1719424800-1719432000@www.four-c.org
SUMMARY:Stewards of Children-Child Abuse Prevention and Education
DESCRIPTION:This curriculum has been created by the not for profit organization Darkness to Light.  It incorporates real life stories with real life people and teaches how to recognize the signs of abuse and neglect\, how to respond to disclosures of abuse and what we can do to help prevent victimizations.  **Must register by Monday\, June 10 for time to receive materials for the training** \nTrainer: Gabby Mancillas\, Assistant Director\, Children’s Advocacy Center at Family Service Agency \nAudience: All Providers \n2 Training Hours; Level of Learning: Intermediate \nFee: \nNon 4-C Members: $10 \n4-C Members: Free
URL:https://www.four-c.org/event/stewards-of-children-child-abuse-prevention-and-education/
LOCATION:Online Webinar
CATEGORIES:CCAP Training Requirements,Child Development,Health/Safety,Online Training/Live Webinar
ATTACH;FMTTYPE=image/png:https://www.four-c.org/wp-content/uploads/2020/09/Screen-Shot-2020-09-02-at-10.10.08-AM.png
END:VEVENT
END:VCALENDAR