BEGIN:VCALENDAR
VERSION:2.0
PRODID:-//4-C - ECPv6.15.17.1//NONSGML v1.0//EN
CALSCALE:GREGORIAN
METHOD:PUBLISH
X-ORIGINAL-URL:https://www.four-c.org
X-WR-CALDESC:Events for 4-C
REFRESH-INTERVAL;VALUE=DURATION:PT1H
X-Robots-Tag:noindex
X-PUBLISHED-TTL:PT1H
BEGIN:VTIMEZONE
TZID:America/Chicago
BEGIN:DAYLIGHT
TZOFFSETFROM:-0600
TZOFFSETTO:-0500
TZNAME:CDT
DTSTART:20240310T080000
END:DAYLIGHT
BEGIN:STANDARD
TZOFFSETFROM:-0500
TZOFFSETTO:-0600
TZNAME:CST
DTSTART:20241103T070000
END:STANDARD
BEGIN:DAYLIGHT
TZOFFSETFROM:-0600
TZOFFSETTO:-0500
TZNAME:CDT
DTSTART:20250309T080000
END:DAYLIGHT
BEGIN:STANDARD
TZOFFSETFROM:-0500
TZOFFSETTO:-0600
TZNAME:CST
DTSTART:20251102T070000
END:STANDARD
BEGIN:DAYLIGHT
TZOFFSETFROM:-0600
TZOFFSETTO:-0500
TZNAME:CDT
DTSTART:20260308T080000
END:DAYLIGHT
BEGIN:STANDARD
TZOFFSETFROM:-0500
TZOFFSETTO:-0600
TZNAME:CST
DTSTART:20261101T070000
END:STANDARD
END:VTIMEZONE
BEGIN:VEVENT
DTSTART;TZID=America/Chicago:20250428T180000
DTEND;TZID=America/Chicago:20250428T193000
DTSTAMP:20260420T024145
CREATED:20250304T163529Z
LAST-MODIFIED:20250304T163535Z
UID:10000554-1745863200-1745868600@www.four-c.org
SUMMARY:Autism in Early Childhood
DESCRIPTION:This training will provide an overview of characteristics of autistic development in the 0-5 year old population\, including ways to support children with autism and how to make referrals to related professionals. \nTrainers: Anna Cannone & related graduate students\, Northern Illinois University \nAudience: All Providers \n1.5 Training Hours; Level of Learning: Introductory \nFee: \nNon 4-C Members: $10 \n4-C Members: Free
URL:https://www.four-c.org/event/autism-in-early-childhood/
LOCATION:Online Webinar
CATEGORIES:Child Development,Online Training/Live Webinar,Staff Development/Training
ATTACH;FMTTYPE=image/png:https://www.four-c.org/wp-content/uploads/2017/10/provider_child_constructing.png
END:VEVENT
END:VCALENDAR