BEGIN:VCALENDAR
VERSION:2.0
PRODID:-//4-C - ECPv6.15.17.1//NONSGML v1.0//EN
CALSCALE:GREGORIAN
METHOD:PUBLISH
X-WR-CALNAME:4-C
X-ORIGINAL-URL:https://www.four-c.org
X-WR-CALDESC:Events for 4-C
REFRESH-INTERVAL;VALUE=DURATION:PT1H
X-Robots-Tag:noindex
X-PUBLISHED-TTL:PT1H
BEGIN:VTIMEZONE
TZID:America/Chicago
BEGIN:DAYLIGHT
TZOFFSETFROM:-0600
TZOFFSETTO:-0500
TZNAME:CDT
DTSTART:20210314T080000
END:DAYLIGHT
BEGIN:STANDARD
TZOFFSETFROM:-0500
TZOFFSETTO:-0600
TZNAME:CST
DTSTART:20211107T070000
END:STANDARD
BEGIN:DAYLIGHT
TZOFFSETFROM:-0600
TZOFFSETTO:-0500
TZNAME:CDT
DTSTART:20220313T080000
END:DAYLIGHT
BEGIN:STANDARD
TZOFFSETFROM:-0500
TZOFFSETTO:-0600
TZNAME:CST
DTSTART:20221106T070000
END:STANDARD
BEGIN:DAYLIGHT
TZOFFSETFROM:-0600
TZOFFSETTO:-0500
TZNAME:CDT
DTSTART:20230312T080000
END:DAYLIGHT
BEGIN:STANDARD
TZOFFSETFROM:-0500
TZOFFSETTO:-0600
TZNAME:CST
DTSTART:20231105T070000
END:STANDARD
END:VTIMEZONE
BEGIN:VEVENT
DTSTART;TZID=America/Chicago:20221206T180000
DTEND;TZID=America/Chicago:20221206T193000
DTSTAMP:20260419T135820
CREATED:20221025T204836Z
LAST-MODIFIED:20221025T215320Z
UID:10000027-1670349600-1670355000@www.four-c.org
SUMMARY:Language Development: Birth Through Five
DESCRIPTION:This training will look at milestones in language development and “red flags” associated with delayed language acquisition.  Some simple strategies will be explained on how to facilitate language development. A resource list will be provided. \nTrainer: Anna Cannone\, Clinical Assistant Professor \nAudience: All Providers Caring for Children Birth Through Five Years \n2 Training Hours; Level of Learning: Introductory \nFee: \nNon 4-C Members: $10 \n4-C Members: Free
URL:https://www.four-c.org/event/language-development-birth-through-five/
LOCATION:Online Webinar
CATEGORIES:CCAP Training Requirements,Child Development,Online Training/Live Webinar
ATTACH;FMTTYPE=image/jpeg:https://www.four-c.org/wp-content/uploads/2021/11/toddler-photo.jpg
END:VEVENT
BEGIN:VEVENT
DTSTART;TZID=America/Chicago:20221020T180000
DTEND;TZID=America/Chicago:20221020T200000
DTSTAMP:20260419T135820
CREATED:20220922T170345Z
LAST-MODIFIED:20220922T170345Z
UID:10000006-1666288800-1666296000@www.four-c.org
SUMMARY:Healthy Families and Communities Using the 40 Developmental Assets
DESCRIPTION:An introduction to the 40 Developmental Assets that support positive youth development. Participants will learn and apply research regarding factors contributing to resilient youth and communities to reduce impacts of trauma on youth and families. \nTrainer: Shannon Kaecker\, Clinical Director\, Adventure Works \nAudience: All Providers \n2 Training Hours; Level of Learning: Introductory \nFee: \nNon 4-C Members: $10 \n4-C Members: Free
URL:https://www.four-c.org/event/healthy-families-and-communities-using-the-40-developmental-assets/
LOCATION:Online Webinar
CATEGORIES:Child Development,Family Relationships,Online Training/Live Webinar
ATTACH;FMTTYPE=image/jpeg:https://www.four-c.org/wp-content/uploads/2018/02/Fotolia_191905673_Subscription_XXL-scaled.jpg
END:VEVENT
END:VCALENDAR