BEGIN:VCALENDAR
VERSION:2.0
PRODID:-//4-C - ECPv6.15.17.1//NONSGML v1.0//EN
CALSCALE:GREGORIAN
METHOD:PUBLISH
X-WR-CALNAME:4-C
X-ORIGINAL-URL:https://www.four-c.org
X-WR-CALDESC:Events for 4-C
REFRESH-INTERVAL;VALUE=DURATION:PT1H
X-Robots-Tag:noindex
X-PUBLISHED-TTL:PT1H
BEGIN:VTIMEZONE
TZID:America/Chicago
BEGIN:DAYLIGHT
TZOFFSETFROM:-0600
TZOFFSETTO:-0500
TZNAME:CDT
DTSTART:20220313T080000
END:DAYLIGHT
BEGIN:STANDARD
TZOFFSETFROM:-0500
TZOFFSETTO:-0600
TZNAME:CST
DTSTART:20221106T070000
END:STANDARD
BEGIN:DAYLIGHT
TZOFFSETFROM:-0600
TZOFFSETTO:-0500
TZNAME:CDT
DTSTART:20230312T080000
END:DAYLIGHT
BEGIN:STANDARD
TZOFFSETFROM:-0500
TZOFFSETTO:-0600
TZNAME:CST
DTSTART:20231105T070000
END:STANDARD
BEGIN:DAYLIGHT
TZOFFSETFROM:-0600
TZOFFSETTO:-0500
TZNAME:CDT
DTSTART:20240310T080000
END:DAYLIGHT
BEGIN:STANDARD
TZOFFSETFROM:-0500
TZOFFSETTO:-0600
TZNAME:CST
DTSTART:20241103T070000
END:STANDARD
END:VTIMEZONE
BEGIN:VEVENT
DTSTART;TZID=America/Chicago:20230610T083000
DTEND;TZID=America/Chicago:20230610T123000
DTSTAMP:20260420T174850
CREATED:20230501T163208Z
LAST-MODIFIED:20230501T163208Z
UID:10000091-1686385800-1686400200@www.four-c.org
SUMMARY:An Introduction to Environment Rating Scales (including ECERS-3)
DESCRIPTION:This training is for center-based programs and family child care providers and offers an overview of the Environment Rating Scales.  The Environment Rating Scales are user-friendly assessment tools that measure the quality of the learning environment for infants through school-age children.  After completing this training\, participants will be able to use the tool(s) for program self-assessment and improvement planning.   Enrollment is limited to 25. Registration is done in consultation with Quality Specialist for priority. \nTrainer: Barb Christmas\, 4-C Quality specialist \nAudience: All Providers \n4 Training Hours; Level of Learning: Intermediate \nFee: $10 non-refundable and non-transferrable fee required to register.
URL:https://www.four-c.org/event/an-introduction-to-environment-rating-scales-including-ecers-3/
LOCATION:IL
CATEGORIES:DeKalb County,ExceleRate IL Training
END:VEVENT
END:VCALENDAR