BEGIN:VCALENDAR
VERSION:2.0
PRODID:-//4-C - ECPv6.15.17.1//NONSGML v1.0//EN
CALSCALE:GREGORIAN
METHOD:PUBLISH
X-ORIGINAL-URL:https://www.four-c.org
X-WR-CALDESC:Events for 4-C
REFRESH-INTERVAL;VALUE=DURATION:PT1H
X-Robots-Tag:noindex
X-PUBLISHED-TTL:PT1H
BEGIN:VTIMEZONE
TZID:America/Chicago
BEGIN:DAYLIGHT
TZOFFSETFROM:-0600
TZOFFSETTO:-0500
TZNAME:CDT
DTSTART:20220313T080000
END:DAYLIGHT
BEGIN:STANDARD
TZOFFSETFROM:-0500
TZOFFSETTO:-0600
TZNAME:CST
DTSTART:20221106T070000
END:STANDARD
BEGIN:DAYLIGHT
TZOFFSETFROM:-0600
TZOFFSETTO:-0500
TZNAME:CDT
DTSTART:20230312T080000
END:DAYLIGHT
BEGIN:STANDARD
TZOFFSETFROM:-0500
TZOFFSETTO:-0600
TZNAME:CST
DTSTART:20231105T070000
END:STANDARD
BEGIN:DAYLIGHT
TZOFFSETFROM:-0600
TZOFFSETTO:-0500
TZNAME:CDT
DTSTART:20240310T080000
END:DAYLIGHT
BEGIN:STANDARD
TZOFFSETFROM:-0500
TZOFFSETTO:-0600
TZNAME:CST
DTSTART:20241103T070000
END:STANDARD
END:VTIMEZONE
BEGIN:VEVENT
DTSTART;TZID=America/Chicago:20230606T180000
DTEND;TZID=America/Chicago:20230606T200000
DTSTAMP:20260420T235535
CREATED:20230501T163209Z
LAST-MODIFIED:20230501T163209Z
UID:10000093-1686074400-1686081600@www.four-c.org
SUMMARY:No Is A Full Sentence:  Creating and Maintaining Healthy Professional Boundaries in Family Child Care
DESCRIPTION:Having a focus on professional boundaries can feel selfish at first\, but they can help define professional relationships between you and the families you serve.  We will focus on what professional boundaries entail\, how they can get blurred\, and how they are created and maintained over time.  We will also discuss boundary violations and the balance between being a teacher and a member of a shared community with your families. \nTrainer: Jennifer Schwartz\, 4-C Training and Technical Assistance Coordinator \nAudience: Family Child Care Providers \n2 Training Hours; Level of Learning: Intermediate \nFee: \nNon 4-C Members: $10 \n4-C Members: Free
URL:https://www.four-c.org/event/no-is-a-full-sentence-creating-and-maintaining-healthy-professional-boundaries-in-family-child-care/
LOCATION:Online Webinar
CATEGORIES:Family Relationships,Online Training/Live Webinar
ATTACH;FMTTYPE=image/jpeg:https://www.four-c.org/wp-content/uploads/2018/02/Fotolia_191905673_Subscription_XXL-scaled.jpg
END:VEVENT
END:VCALENDAR