BEGIN:VCALENDAR
VERSION:2.0
PRODID:-//4-C - ECPv6.15.20//NONSGML v1.0//EN
CALSCALE:GREGORIAN
METHOD:PUBLISH
X-ORIGINAL-URL:https://www.four-c.org
X-WR-CALDESC:Events for 4-C
REFRESH-INTERVAL;VALUE=DURATION:PT1H
X-Robots-Tag:noindex
X-PUBLISHED-TTL:PT1H
BEGIN:VTIMEZONE
TZID:America/Chicago
BEGIN:DAYLIGHT
TZOFFSETFROM:-0600
TZOFFSETTO:-0500
TZNAME:CDT
DTSTART:20250309T080000
END:DAYLIGHT
BEGIN:STANDARD
TZOFFSETFROM:-0500
TZOFFSETTO:-0600
TZNAME:CST
DTSTART:20251102T070000
END:STANDARD
BEGIN:DAYLIGHT
TZOFFSETFROM:-0600
TZOFFSETTO:-0500
TZNAME:CDT
DTSTART:20260308T080000
END:DAYLIGHT
BEGIN:STANDARD
TZOFFSETFROM:-0500
TZOFFSETTO:-0600
TZNAME:CST
DTSTART:20261101T070000
END:STANDARD
BEGIN:DAYLIGHT
TZOFFSETFROM:-0600
TZOFFSETTO:-0500
TZNAME:CDT
DTSTART:20270314T080000
END:DAYLIGHT
BEGIN:STANDARD
TZOFFSETFROM:-0500
TZOFFSETTO:-0600
TZNAME:CST
DTSTART:20271107T070000
END:STANDARD
END:VTIMEZONE
BEGIN:VEVENT
DTSTART;TZID=America/Chicago:20260305T183000
DTEND;TZID=America/Chicago:20260305T203000
DTSTAMP:20260425T211214
CREATED:20260108T165125Z
LAST-MODIFIED:20260108T170501Z
UID:10000621-1772735400-1772742600@www.four-c.org
SUMMARY:Better Together-Module 1: Child Nutrition
DESCRIPTION:This Learning Collaborative focuses on child nutrition best practices and the many ways ECE programs can support healthy eating habits in children by serving healthy foods and beverages\, supporting teacher use of recommended feeding practices\, and offering education and professional development to children\, staff\, and families. Participants will learn about healthy eating through the lens of whole child development and child nutrition best practices\, while also considering the role of food insecurity and culture in feeding practices. Participants will identify goals for healthy change using Go NAPSACC self-assessment results. With consultant support\, participants will select and implement best practices to support healthy eating habits within their program. \n*Participants must attend all sessions to receive credit.* \nPlease note— participant teams is required to consist of a director/owner/leadership member and one other participant to support the best practice implementation. Teams must register at the same time. \nTrainer: Cheryl Joseph\, Professor\, Oakton Community College \nAudience: All Providers \n10 Training Hours; Level of Learning: Intermediate \nFree Training
URL:https://www.four-c.org/event/better-together-module-1-child-nutrition/2026-03-05/
LOCATION:Online Webinar
CATEGORIES:CCAP Training Events,Health/Safety,Online Training/Live Webinar,Program Planning
ATTACH;FMTTYPE=image/jpeg:https://www.four-c.org/wp-content/uploads/2018/02/Fotolia_61766581_Subscription_XL-scaled.jpg
END:VEVENT
BEGIN:VEVENT
DTSTART;TZID=America/Chicago:20260307T083000
DTEND;TZID=America/Chicago:20260307T123000
DTSTAMP:20260425T211214
CREATED:20260209T191423Z
LAST-MODIFIED:20260209T191428Z
UID:10000622-1772872200-1772886600@www.four-c.org
SUMMARY:American Heart Association Heartsaver Pediatric First Aid CPR AED
DESCRIPTION:American Heart Association Heartsaver Pediatric CPR/First Aid/AED course teaches child care providers critical skills and knowledge needed to respond to and manage illnesses and injuries in a child or infant in the first minutes until emergency services arrives. \nTrainer: Maria Lombardo\, Director\, Kishwaukee College Early Learning Center \nAudience: All Providers \n4 Training Hours; Level of Learning: Introductory \nFree Training
URL:https://www.four-c.org/event/american-heart-association-heartsaver-pediatric-first-aid-cpr-aed/
LOCATION:DeKalb County Farm Bureau\, Sycamore\, IL
CATEGORIES:CCAP Orientation Requirement,CCAP Training Requirements,CPR and First Aid,Health/Safety,Lee County
ATTACH;FMTTYPE=image/jpeg:https://www.four-c.org/wp-content/uploads/2018/02/Fotolia_81538858_Subscription_XXL-scaled.jpg
END:VEVENT
BEGIN:VEVENT
DTSTART;TZID=America/Chicago:20260326T180000
DTEND;TZID=America/Chicago:20260326T200000
DTSTAMP:20260425T211214
CREATED:20260108T165125Z
LAST-MODIFIED:20260108T170501Z
UID:10000618-1774548000-1774555200@www.four-c.org
SUMMARY:Better Together-Module 1: Child Nutrition
DESCRIPTION:This Learning Collaborative focuses on child nutrition best practices and the many ways ECE programs can support healthy eating habits in children by serving healthy foods and beverages\, supporting teacher use of recommended feeding practices\, and offering education and professional development to children\, staff\, and families. Participants will learn about healthy eating through the lens of whole child development and child nutrition best practices\, while also considering the role of food insecurity and culture in feeding practices. Participants will identify goals for healthy change using Go NAPSACC self-assessment results. With consultant support\, participants will select and implement best practices to support healthy eating habits within their program. \n*Participants must attend all sessions to receive credit.* \nPlease note— participant teams is required to consist of a director/owner/leadership member and one other participant to support the best practice implementation. Teams must register at the same time. \nTrainer: Cheryl Joseph\, Professor\, Oakton Community College \nAudience: All Providers \n10 Training Hours; Level of Learning: Intermediate \nFree Training
URL:https://www.four-c.org/event/better-together-module-1-child-nutrition/2026-03-26/
LOCATION:Online Webinar
CATEGORIES:CCAP Training Events,Health/Safety,Online Training/Live Webinar,Program Planning
ATTACH;FMTTYPE=image/jpeg:https://www.four-c.org/wp-content/uploads/2018/02/Fotolia_61766581_Subscription_XL-scaled.jpg
END:VEVENT
BEGIN:VEVENT
DTSTART;TZID=America/Chicago:20260331T180000
DTEND;TZID=America/Chicago:20260331T210000
DTSTAMP:20260425T211214
CREATED:20260209T191638Z
LAST-MODIFIED:20260209T191643Z
UID:10000624-1774980000-1774990800@www.four-c.org
SUMMARY:American Heart Association Heartsaver Pediatric First Aid CPR AED
DESCRIPTION:American Heart Association Heartsaver Pediatric CPR/First Aid/AED course teaches child care providers critical skills and knowledge needed to respond to and manage illnesses and injuries in a child or infant in the first minutes until emergency services arrives. \nTrainer: Amy Lofthouse\, Associate Director\, NIU Child Development & Family Center \nAudience: All Providers \n3 Training Hours; Level of Learning: Introductory \nFree Training
URL:https://www.four-c.org/event/american-heart-association-heartsaver-pediatric-first-aid-cpr-aed-3/
LOCATION:Northern Illinois University Child Development and Family Center\, DeKalb\, IL
CATEGORIES:CCAP Orientation Requirement,CCAP Training Requirements,CPR and First Aid,DeKalb County,Health/Safety
ATTACH;FMTTYPE=image/jpeg:https://www.four-c.org/wp-content/uploads/2018/02/Fotolia_81538858_Subscription_XXL-scaled.jpg
END:VEVENT
END:VCALENDAR