BEGIN:VCALENDAR
VERSION:2.0
PRODID:-//4-C - ECPv6.15.20//NONSGML v1.0//EN
CALSCALE:GREGORIAN
METHOD:PUBLISH
X-WR-CALNAME:4-C
X-ORIGINAL-URL:https://www.four-c.org
X-WR-CALDESC:Events for 4-C
REFRESH-INTERVAL;VALUE=DURATION:PT1H
X-Robots-Tag:noindex
X-PUBLISHED-TTL:PT1H
BEGIN:VTIMEZONE
TZID:America/Chicago
BEGIN:DAYLIGHT
TZOFFSETFROM:-0600
TZOFFSETTO:-0500
TZNAME:CDT
DTSTART:20250309T080000
END:DAYLIGHT
BEGIN:STANDARD
TZOFFSETFROM:-0500
TZOFFSETTO:-0600
TZNAME:CST
DTSTART:20251102T070000
END:STANDARD
BEGIN:DAYLIGHT
TZOFFSETFROM:-0600
TZOFFSETTO:-0500
TZNAME:CDT
DTSTART:20260308T080000
END:DAYLIGHT
BEGIN:STANDARD
TZOFFSETFROM:-0500
TZOFFSETTO:-0600
TZNAME:CST
DTSTART:20261101T070000
END:STANDARD
BEGIN:DAYLIGHT
TZOFFSETFROM:-0600
TZOFFSETTO:-0500
TZNAME:CDT
DTSTART:20270314T080000
END:DAYLIGHT
BEGIN:STANDARD
TZOFFSETFROM:-0500
TZOFFSETTO:-0600
TZNAME:CST
DTSTART:20271107T070000
END:STANDARD
END:VTIMEZONE
BEGIN:VEVENT
DTSTART;TZID=America/Chicago:20260207T083000
DTEND;TZID=America/Chicago:20260207T123000
DTSTAMP:20260425T224434
CREATED:20260108T163758Z
LAST-MODIFIED:20260108T163802Z
UID:10000612-1770453000-1770467400@www.four-c.org
SUMMARY:American Heart Association Heartsaver Pediatric Total
DESCRIPTION:American Heart Association Heartsaver Pediatric CPR/First Aid/AED course teaches child care providers critical skills and knowledge needed to respond to and manage illnesses and injuries in a child or infant in the first minutes until emergency services arrives. \nTrainer: Maria Lombardo\, Director\, Kishwaukee College Early Learning Center \nAudience: All Providers \n4 Training Hours; Level of Learning: Introductory \nFree Training
URL:https://www.four-c.org/event/american-heart-association-heartsaver-pediatric-total-18/
LOCATION:Dixon YMCA\, 110 Galena Ave\, Dixon\, IL\, United States
CATEGORIES:CCAP Orientation Requirement,CCAP Training Requirements,CPR and First Aid,Lee County
ATTACH;FMTTYPE=image/jpeg:https://www.four-c.org/wp-content/uploads/2018/02/Fotolia_81538858_Subscription_XXL-scaled.jpg
END:VEVENT
END:VCALENDAR